Workbook

Sheet 2026-1 대학원생 정기안전교육(고위험)
A1: NO | B1: 학번 | C1: 성명 | D1: 주전공 학부(과) | E1: 온라인 수료시간 | F1: 집체교육 수료시간 | G1: 총 수료시간 | H1: 이수유무 | I1: 비고
A2: 1 | B2: 2023120550 | C2: 마리아 라시드 | D2: 미래전지융합공학과 | E2: =IFERROR(VLOOKUP(B2,Sheet1!$A$1:$B$1490,2,0),0) -> 6 | G2: =E2+F2 -> 6 | H2: 이수
A3: 2 | B3: 2023126911 | C3: 김창섭 | D3: 미래전지융합공학과 | E3: =IFERROR(VLOOKUP(B3,Sheet1!$A$1:$B$1490,2,0),0) -> 6 | G3: =E3+F3 -> 6 | H3: 이수
A4: 3 | B4: 2023126912 | C4: 김창성 | D4: 미래전지융합공학과 | E4: =IFERROR(VLOOKUP(B4,Sheet1!$A$1:$B$1490,2,0),0) -> 7 | G4: =E4+F4 -> 7 | H4: 이수
A5: 4 | B5: 2024126738 | C5: 연제민 | D5: 미래전지융합공학과 | E5: =IFERROR(VLOOKUP(B5,Sheet1!$A$1:$B$1490,2,0),0) -> 0 | G5: =E5+F5 -> 0
A6: 5 | B6: 2024126739 | C6: 김지훈 | D6: 미래전지융합공학과 | E6: =IFERROR(VLOOKUP(B6,Sheet1!$A$1:$B$1490,2,0),0) -> 6 | G6: =E6+F6 -> 6 | H6: 이수
A7: 6 | B7: 2024126920 | C7: 조일현 | D7: 미래전지융합공학과 | E7: =IFERROR(VLOOKUP(B7,Sheet1!$A$1:$B$1490,2,0),0) -> 6 | G7: =E7+F7 -> 6 | H7: 이수
A8: 7 | B8: 2024126921 | C8: 이현률 | D8: 미래전지융합공학과 | E8: =IFERROR(VLOOKUP(B8,Sheet1!$A$1:$B$1490,2,0),0) -> 4 | F8: 2 | G8: =E8+F8 -> 6 | H8: 이수
A9: 8 | B9: 2024127075 | C9: 새미와나카이 | D9: 미래전지융합공학과 | E9: =IFERROR(VLOOKUP(B9,Sheet1!$A$1:$B$1490,2,0),0) -> 6 | G9: =E9+F9 -> 6 | H9: 이수
A10: 9 | B10: 2025120173 | C10: 박경재 | D10: 미래전지융합공학과 | E10: =IFERROR(VLOOKUP(B10,Sheet1!$A$1:$B$1490,2,0),0) -> 4 | F10: 2 | G10: =E10+F10 -> 6 | H10: 이수
A11: 10 | B11: 2025126596 | C11: 김영규 | D11: 미래전지융합공학과 | E11: =IFERROR(VLOOKUP(B11,Sheet1!$A$1:$B$1490,2,0),0) -> 6 | G11: =E11+F11 -> 6 | H11: 이수
A12: 11 | B12: 2025126598 | C12: 이신우 | D12: 미래전지융합공학과 | E12: =IFERROR(VLOOKUP(B12,Sheet1!$A$1:$B$1490,2,0),0) -> 6 | G12: =E12+F12 -> 6 | H12: 이수
A13: 12 | B13: 2025126792 | C13: 진동근 | D13: 미래전지융합공학과 | E13: =IFERROR(VLOOKUP(B13,Sheet1!$A$1:$B$1490,2,0),0) -> 6 | G13: =E13+F13 -> 6 | H13: 이수
A14: 13 | B14: 2024126545 | C14: 최지혜 | D14: 화학과 | E14: =IFERROR(VLOOKUP(B14,Sheet1!$A$1:$B$1490,2,0),0) -> 4 | F14: 2 | G14: =E14+F14 -> 6 | H14: 이수
A15: 14 | B15: 2024126546 | C15: 강민재 | D15: 화학과 | E15: =IFERROR(VLOOKUP(B15,Sheet1!$A$1:$B$1490,2,0),0) -> 4 | F15: 2 | G15: =E15+F15 -> 6 | H15: 이수
A16: 15 | B16: 2024126788 | C16: 베비아고가 | D16: 화학과 | E16: =IFERROR(VLOOKUP(B16,Sheet1!$A$1:$B$1490,2,0),0) -> 0 | G16: =E16+F16 -> 0
A17: 16 | B17: 2025120056 | C17: 이유현 | D17: 화학과 | E17: =IFERROR(VLOOKUP(B17,Sheet1!$A$1:$B$1490,2,0),0) -> 6 | G17: =E17+F17 -> 6 | H17: 이수
A18: 17 | B18: 2025120057 | C18: 신은영 | D18: 화학과 | E18: =IFERROR(VLOOKUP(B18,Sheet1!$A$1:$B$1490,2,0),0) -> 6 | F18: 2 | G18: =E18+F18 -> 8 | H18: 이수
A19: 18 | B19: 2025120058 | C19: 유연평 | D19: 화학과 | E19: =IFERROR(VLOOKUP(B19,Sheet1!$A$1:$B$1490,2,0),0) -> 0 | G19: =E19+F19 -> 0
A20: 19 | B20: 2025120060 | C20: 김지우 | D20: 화학과 | E20: =IFERROR(VLOOKUP(B20,Sheet1!$A$1:$B$1490,2,0),0) -> 0 | F20: 2 | G20: =E20+F20 -> 2
A21: 20 | B21: 2025120335 | C21: 반지현 | D21: 화학과 | E21: =IFERROR(VLOOKUP(B21,Sheet1!$A$1:$B$1490,2,0),0) -> 0 | G21: =E21+F21 -> 0
A22: 21 | B22: 2025121025 | C22: 이민규 | D22: 화학과 | E22: =IFERROR(VLOOKUP(B22,Sheet1!$A$1:$B$1490,2,0),0) -> 6 | G22: =E22+F22 -> 6 | H22: 이수
A23: 22 | B23: 2025126524 | C23: 한다은 | D23: 화학과 | E23: =IFERROR(VLOOKUP(B23,Sheet1!$A$1:$B$1490,2,0),0) -> 0 | F23: 2 | G23: =E23+F23 -> 2
A24: 23 | B24: 2025126525 | C24: 신주희 | D24: 화학과 | E24: =IFERROR(VLOOKUP(B24,Sheet1!$A$1:$B$1490,2,0),0) -> 6 | F24: 2 | G24: =E24+F24 -> 8 | H24: 이수
A25: 24 | B25: 2025126928 | C25: 오코치완데라조엘 | D25: 화학과 | E25: =IFERROR(VLOOKUP(B25,Sheet1!$A$1:$B$1490,2,0),0) -> 6 | G25: =E25+F25 -> 6 | H25: 이수
A26: 25 | B26: 2024127013 | C26: 여수문 | D26: 물리학과 | E26: =IFERROR(VLOOKUP(B26,Sheet1!$A$1:$B$1490,2,0),0) -> 0 | F26: 6 | G26: =E26+F26 -> 6 | H26: 이수
A27: 26 | B27: 2024127014 | C27: 푸멍디 | D27: 물리학과 | E27: =IFERROR(VLOOKUP(B27,Sheet1!$A$1:$B$1490,2,0),0) -> 0 | F27: 6 | G27: =E27+F27 -> 6 | H27: 이수
A28: 27 | B28: 2025120054 | C28: 박재성 | D28: 물리학과 | E28: =IFERROR(VLOOKUP(B28,Sheet1!$A$1:$B$1490,2,0),0) -> 0 | G28: =E28+F28 -> 0
A29: 28 | B29: 2025120055 | C29: 최시연 | D29: 물리학과 | E29: =IFERROR(VLOOKUP(B29,Sheet1!$A$1:$B$1490,2,0),0) -> 0 | F29: 6 | G29: =E29+F29 -> 6 | H29: 이수
A30: 29 | B30: 2025120373 | C30: 나경태 | D30: 물리학과 | E30: =IFERROR(VLOOKUP(B30,Sheet1!$A$1:$B$1490,2,0),0) -> 6 | G30: =E30+F30 -> 6 | H30: 이수
A31: 30 | B31: 2025120504 | C31: 권성혁 | D31: 물리학과 | E31: =IFERROR(VLOOKUP(B31,Sheet1!$A$1:$B$1490,2,0),0) -> 6 | G31: =E31+F31 -> 6 | H31: 이수
A32: 31 | B32: 2025121185 | C32: 김구환 | D32: 물리학과 | E32: =IFERROR(VLOOKUP(B32,Sheet1!$A$1:$B$1490,2,0),0) -> 8 | G32: =E32+F32 -> 8 | H32: 이수
A33: 32 | B33: 2025126523 | C33: 이주형 | D33: 물리학과 | E33: =IFERROR(VLOOKUP(B33,Sheet1!$A$1:$B$1490,2,0),0) -> 0 | F33: 6 | G33: =E33+F33 -> 6 | H33: 이수
A34: 33 | B34: 2025126925 | C34: 와히드무함마드 | D34: 물리학과 | E34: =IFERROR(VLOOKUP(B34,Sheet1!$A$1:$B$1490,2,0),0) -> 0 | F34: 6 | G34: =E34+F34 -> 6 | H34: 이수
A35: 34 | B35: 2024126653 | C35: 범시우 | D35: 건설환경공학과 | E35: =IFERROR(VLOOKUP(B35,Sheet1!$A$1:$B$1490,2,0),0) -> 0 | G35: =E35+F35 -> 0
A36: 35 | B36: 2025120115 | C36: 김태엽 | D36: 건설환경공학과 | E36: =IFERROR(VLOOKUP(B36,Sheet1!$A$1:$B$1490,2,0),0) -> 6 | G36: =E36+F36 -> 6 | H36: 이수
A37: 36 | B37: 2025120116 | C37: 이상민 | D37: 건설환경공학과 | E37: =IFERROR(VLOOKUP(B37,Sheet1!$A$1:$B$1490,2,0),0) -> 4 | F37: 2 | G37: =E37+F37 -> 6 | H37: 이수
A38: 37 | B38: 2025120117 | C38: 박준희 | D38: 건설환경공학과 | E38: =IFERROR(VLOOKUP(B38,Sheet1!$A$1:$B$1490,2,0),0) -> 0 | F38: 6 | G38: =E38+F38 -> 6 | H38: 이수
A39: 38 | B39: 2025121045 | C39: 김태건 | D39: 건설환경공학과 | E39: =IFERROR(VLOOKUP(B39,Sheet1!$A$1:$B$1490,2,0),0) -> 0 | G39: =E39+F39 -> 0
A40: 39 | B40: 2025126572 | C40: 조수호 | D40: 건설환경공학과 | E40: =IFERROR(VLOOKUP(B40,Sheet1!$A$1:$B$1490,2,0),0) -> 0 | F40: 2 | G40: =E40+F40 -> 2
A41: 40 | B41: 2025126573 | C41: 김윤빈 | D41: 건설환경공학과 | E41: =IFERROR(VLOOKUP(B41,Sheet1!$A$1:$B$1490,2,0),0) -> 0 | F41: 6 | G41: =E41+F41 -> 6 | H41: 이수
A42: 41 | B42: 2025127076 | C42: 다이앤팔메로 | D42: 건설환경공학과 | E42: =IFERROR(VLOOKUP(B42,Sheet1!$A$1:$B$1490,2,0),0) -> 7 | F42: 2 | G42: =E42+F42 -> 9 | H42: 이수
A43: 42 | B43: 2025126683 | C43: 남다연 | D43: 화공생물공학과 | E43: =IFERROR(VLOOKUP(B43,Sheet1!$A$1:$B$1490,2,0),0) -> 4 | F43: 4 | G43: =E43+F43 -> 8 | H43: 이수
A44: 43 | B44: 2025126684 | C44: 이제선 | D44: 화공생물공학과 | E44: =IFERROR(VLOOKUP(B44,Sheet1!$A$1:$B$1490,2,0),0) -> 6 | F44: 2 | G44: =E44+F44 -> 8 | H44: 이수
A45: 44 | B45: 2025126685 | C45: 박상민 | D45: 화공생물공학과 | E45: =IFERROR(VLOOKUP(B45,Sheet1!$A$1:$B$1490,2,0),0) -> 0 | G45: =E45+F45 -> 0
A46: 45 | B46: 2025126686 | C46: 위준의 | D46: 화공생물공학과 | E46: =IFERROR(VLOOKUP(B46,Sheet1!$A$1:$B$1490,2,0),0) -> 6 | G46: =E46+F46 -> 6 | H46: 이수
A47: 46 | B47: 2025126687 | C47: 박소희 | D47: 화공생물공학과 | E47: =IFERROR(VLOOKUP(B47,Sheet1!$A$1:$B$1490,2,0),0) -> 0 | G47: =E47+F47 -> 0
A48: 47 | B48: 2025126921 | C48: 박민경 | D48: 화공생물공학과 | E48: =IFERROR(VLOOKUP(B48,Sheet1!$A$1:$B$1490,2,0),0) -> 8 | F48: 4 | G48: =E48+F48 -> 12 | H48: 이수
A49: 48 | B49: 2025127050 | C49: 한성우 | D49: 화공생물공학과 | E49: =IFERROR(VLOOKUP(B49,Sheet1!$A$1:$B$1490,2,0),0) -> 0 | G49: =E49+F49 -> 0
A50: 49 | B50: 2024126909 | C50: 박준영 | D50: 화학공학과 | E50: =IFERROR(VLOOKUP(B50,Sheet1!$A$1:$B$1490,2,0),0) -> 6 | F50: 2 | G50: =E50+F50 -> 8 | H50: 이수
A51: 50 | B51: 2024127042 | C51: 이채은 | D51: 화학공학과 | E51: =IFERROR(VLOOKUP(B51,Sheet1!$A$1:$B$1490,2,0),0) -> 0 | F51: 2 | G51: =E51+F51 -> 2
A52: 51 | B52: 2024127043 | C52: 유선우 | D52: 화학공학과 | E52: =IFERROR(VLOOKUP(B52,Sheet1!$A$1:$B$1490,2,0),0) -> 4 | G52: =E52+F52 -> 4
A53: 52 | B53: 2025120006 | C53: 가오닝 | D53: 화학공학과 | E53: =IFERROR(VLOOKUP(B53,Sheet1!$A$1:$B$1490,2,0),0) -> 0 | G53: =E53+F53 -> 0
A54: 53 | B54: 2025120119 | C54: 김용찬 | D54: 화학공학과 | E54: =IFERROR(VLOOKUP(B54,Sheet1!$A$1:$B$1490,2,0),0) -> 6 | G54: =E54+F54 -> 6 | H54: 이수
A55: 54 | B55: 2025120121 | C55: 박규리 | D55: 화학공학과 | E55: =IFERROR(VLOOKUP(B55,Sheet1!$A$1:$B$1490,2,0),0) -> 6 | G55: =E55+F55 -> 6 | H55: 이수
A56: 55 | B56: 2025120122 | C56: 유민선 | D56: 화학공학과 | E56: =IFERROR(VLOOKUP(B56,Sheet1!$A$1:$B$1490,2,0),0) -> 6 | F56: 2 | G56: =E56+F56 -> 8 | H56: 이수
A57: 56 | B57: 2025120508 | C57: 김의철 | D57: 화학공학과 | E57: =IFERROR(VLOOKUP(B57,Sheet1!$A$1:$B$1490,2,0),0) -> 0 | G57: =E57+F57 -> 0
A58: 57 | B58: 2025120509 | C58: 김은하 | D58: 화학공학과 | E58: =IFERROR(VLOOKUP(B58,Sheet1!$A$1:$B$1490,2,0),0) -> 6 | F58: 2 | G58: =E58+F58 -> 8 | H58: 이수
A59: 58 | B59: 2025120510 | C59: 김태현 | D59: 화학공학과 | E59: =IFERROR(VLOOKUP(B59,Sheet1!$A$1:$B$1490,2,0),0) -> 6 | G59: =E59+F59 -> 6 | H59: 이수
A60: 59 | B60: 2024120520 | C60: 이인우 | D60: 기계공학과 | E60: =IFERROR(VLOOKUP(B60,Sheet1!$A$1:$B$1490,2,0),0) -> 0 | G60: =E60+F60 -> 0
A61: 60 | B61: 2024121091 | C61: 곽경수 | D61: 기계공학과 | E61: =IFERROR(VLOOKUP(B61,Sheet1!$A$1:$B$1490,2,0),0) -> 0 | G61: =E61+F61 -> 0
A62: 61 | B62: 2024126657 | C62: 곽해솔 | D62: 기계공학과 | E62: =IFERROR(VLOOKUP(B62,Sheet1!$A$1:$B$1490,2,0),0) -> 6 | G62: =E62+F62 -> 6 | H62: 이수
A63: 62 | B63: 2024126910 | C63: 하산하셉울 | D63: 기계공학과 | E63: =IFERROR(VLOOKUP(B63,Sheet1!$A$1:$B$1490,2,0),0) -> 6 | G63: =E63+F63 -> 6 | H63: 이수
A64: 63 | B64: 2024126911 | C64: 무함마드하리스야즈다니 | D64: 기계공학과 | E64: =IFERROR(VLOOKUP(B64,Sheet1!$A$1:$B$1490,2,0),0) -> 6 | G64: =E64+F64 -> 6 | H64: 이수
A65: 64 | B65: 2025120175 | C65: 이찬희 | D65: 기계공학과 | E65: =IFERROR(VLOOKUP(B65,Sheet1!$A$1:$B$1490,2,0),0) -> 0 | G65: =E65+F65 -> 0
A66: 65 | B66: 2025120176 | C66: 진승환 | D66: 기계공학과 | E66: =IFERROR(VLOOKUP(B66,Sheet1!$A$1:$B$1490,2,0),0) -> 6 | G66: =E66+F66 -> 6 | H66: 이수
A67: 66 | B67: 2025120177 | C67: 신인철 | D67: 기계공학과 | E67: =IFERROR(VLOOKUP(B67,Sheet1!$A$1:$B$1490,2,0),0) -> 0 | G67: =E67+F67 -> 0
A68: 67 | B68: 2025120178 | C68: 기대연 | D68: 기계공학과 | E68: =IFERROR(VLOOKUP(B68,Sheet1!$A$1:$B$1490,2,0),0) -> 0 | G68: =E68+F68 -> 0
A69: 68 | B69: 2025120179 | C69: 장민우 | D69: 기계공학과 | E69: =IFERROR(VLOOKUP(B69,Sheet1!$A$1:$B$1490,2,0),0) -> 6 | G69: =E69+F69 -> 6 | H69: 이수
A70: 69 | B70: 2025120180 | C70: 박규태 | D70: 기계공학과 | E70: =IFERROR(VLOOKUP(B70,Sheet1!$A$1:$B$1490,2,0),0) -> 0 | G70: =E70+F70 -> 0
A71: 70 | B71: 2025120181 | C71: 이중우 | D71: 기계공학과 | E71: =IFERROR(VLOOKUP(B71,Sheet1!$A$1:$B$1490,2,0),0) -> 0 | G71: =E71+F71 -> 0
A72: 71 | B72: 2025120182 | C72: 정성원 | D72: 기계공학과 | E72: =IFERROR(VLOOKUP(B72,Sheet1!$A$1:$B$1490,2,0),0) -> 6 | G72: =E72+F72 -> 6 | H72: 이수
A73: 72 | B73: 2025120376 | C73: 홍수진 | D73: 기계공학과 | E73: =IFERROR(VLOOKUP(B73,Sheet1!$A$1:$B$1490,2,0),0) -> 0 | G73: =E73+F73 -> 0
A74: 73 | B74: 2025120556 | C74: 라나탈랄아흐마드칸 | D74: 기계공학과 | E74: =IFERROR(VLOOKUP(B74,Sheet1!$A$1:$B$1490,2,0),0) -> 6 | G74: =E74+F74 -> 6 | H74: 이수
A75: 74 | B75: 2025120557 | C75: 알리쉬바 | D75: 기계공학과 | E75: =IFERROR(VLOOKUP(B75,Sheet1!$A$1:$B$1490,2,0),0) -> 0 | G75: =E75+F75 -> 0
A76: 75 | B76: 2025121057 | C76: 천유빈 | D76: 기계공학과 | E76: =IFERROR(VLOOKUP(B76,Sheet1!$A$1:$B$1490,2,0),0) -> 0 | G76: =E76+F76 -> 0
A77: 76 | B77: 2025121058 | C77: 고대관 | D77: 기계공학과 | E77: =IFERROR(VLOOKUP(B77,Sheet1!$A$1:$B$1490,2,0),0) -> 0 | G77: =E77+F77 -> 0
A78: 77 | B78: 2025126599 | C78: 신호철 | D78: 기계공학과 | E78: =IFERROR(VLOOKUP(B78,Sheet1!$A$1:$B$1490,2,0),0) -> 0 | G78: =E78+F78 -> 0
A79: 78 | B79: 2025126600 | C79: 전갑승 | D79: 기계공학과 | E79: =IFERROR(VLOOKUP(B79,Sheet1!$A$1:$B$1490,2,0),0) -> 0 | G79: =E79+F79 -> 0
A80: 79 | B80: 2025126601 | C80: 서영주 | D80: 기계공학과 | E80: =IFERROR(VLOOKUP(B80,Sheet1!$A$1:$B$1490,2,0),0) -> 0 | G80: =E80+F80 -> 0
A81: 80 | B81: 2025126602 | C81: 유재경 | D81: 기계공학과 | E81: =IFERROR(VLOOKUP(B81,Sheet1!$A$1:$B$1490,2,0),0) -> 0 | G81: =E81+F81 -> 0 | H81: 이수
A82: 81 | B82: 2025126603 | C82: 최하람 | D82: 기계공학과 | E82: =IFERROR(VLOOKUP(B82,Sheet1!$A$1:$B$1490,2,0),0) -> 0 | G82: =E82+F82 -> 0
A83: 82 | B83: 2025126604 | C83: 조준현 | D83: 기계공학과 | E83: =IFERROR(VLOOKUP(B83,Sheet1!$A$1:$B$1490,2,0),0) -> 0 | G83: =E83+F83 -> 0
A84: 83 | B84: 2025126605 | C84: 최윤지 | D84: 기계공학과 | E84: =IFERROR(VLOOKUP(B84,Sheet1!$A$1:$B$1490,2,0),0) -> 0 | G84: =E84+F84 -> 0
A85: 84 | B85: 2025126606 | C85: 김재윤 | D85: 기계공학과 | E85: =IFERROR(VLOOKUP(B85,Sheet1!$A$1:$B$1490,2,0),0) -> 6 | G85: =E85+F85 -> 6 | H85: 이수
A86: 85 | B86: 2025126931 | C86: 황규민 | D86: 기계공학과 | E86: =IFERROR(VLOOKUP(B86,Sheet1!$A$1:$B$1490,2,0),0) -> 6 | G86: =E86+F86 -> 6 | H86: 이수
A87: 86 | B87: 2025127073 | C87: 무하마드하시브 | D87: 기계공학과 | E87: =IFERROR(VLOOKUP(B87,Sheet1!$A$1:$B$1490,2,0),0) -> 0 | G87: =E87+F87 -> 0
A88: 87 | B88: 2025127088 | C88: 손영채 | D88: 기계공학과 | E88: =IFERROR(VLOOKUP(B88,Sheet1!$A$1:$B$1490,2,0),0) -> 0 | G88: =E88+F88 -> 0
A89: 88 | B89: 2022126930 | C89: 앨버트버티 | D89: 에너지신소재공학과 | E89: =IFERROR(VLOOKUP(B89,Sheet1!$A$1:$B$1490,2,0),0) -> 0 | G89: =E89+F89 -> 0
A90: 89 | B90: 2023120519 | C90: 김태호 | D90: 에너지신소재공학과 | E90: =IFERROR(VLOOKUP(B90,Sheet1!$A$1:$B$1490,2,0),0) -> 6 | G90: =E90+F90 -> 6 | H90: 이수
A91: 90 | B91: 2023126921 | C91: 라기사샤히드 | D91: 에너지신소재공학과 | E91: =IFERROR(VLOOKUP(B91,Sheet1!$A$1:$B$1490,2,0),0) -> 0 | G91: =E91+F91 -> 0
A92: 91 | B92: 2023126922 | C92: 보아텡나나 | D92: 에너지신소재공학과 | E92: =IFERROR(VLOOKUP(B92,Sheet1!$A$1:$B$1490,2,0),0) -> 0 | G92: =E92+F92 -> 0
A93: 92 | B93: 2023126923 | C93: 아사포벤자민 | D93: 에너지신소재공학과 | E93: =IFERROR(VLOOKUP(B93,Sheet1!$A$1:$B$1490,2,0),0) -> 6 | G93: =E93+F93 -> 6 | H93: 이수
A94: 93 | B94: 2024120278 | C94: 칸즈닝 | D94: 에너지신소재공학과 | E94: =IFERROR(VLOOKUP(B94,Sheet1!$A$1:$B$1490,2,0),0) -> 0 | G94: =E94+F94 -> 0
A95: 94 | B95: 2024120521 | C95: 박재원 | D95: 에너지신소재공학과 | E95: =IFERROR(VLOOKUP(B95,Sheet1!$A$1:$B$1490,2,0),0) -> 0 | G95: =E95+F95 -> 0
A96: 95 | B96: 2024126912 | C96: 심은수 | D96: 에너지신소재공학과 | E96: =IFERROR(VLOOKUP(B96,Sheet1!$A$1:$B$1490,2,0),0) -> 3 | F96: 2 | G96: =E96+F96 -> 5
A97: 96 | B97: 2024127046 | C97: 유사함 | D97: 에너지신소재공학과 | E97: =IFERROR(VLOOKUP(B97,Sheet1!$A$1:$B$1490,2,0),0) -> 0 | G97: =E97+F97 -> 0
A98: 97 | B98: 2024127047 | C98: 진민성 | D98: 에너지신소재공학과 | E98: =IFERROR(VLOOKUP(B98,Sheet1!$A$1:$B$1490,2,0),0) -> 0 | G98: =E98+F98 -> 0
A99: 98 | B99: 2025120183 | C99: 정우영 | D99: 에너지신소재공학과 | E99: =IFERROR(VLOOKUP(B99,Sheet1!$A$1:$B$1490,2,0),0) -> 4 | F99: 2 | G99: =E99+F99 -> 6 | H99: 이수
A100: 99 | B100: 2025120184 | C100: 이경용 | D100: 에너지신소재공학과 | E100: =IFERROR(VLOOKUP(B100,Sheet1!$A$1:$B$1490,2,0),0) -> 6 | G100: =E100+F100 -> 6 | H100: 이수
...

Sheet Sheet1
A1: 20260238 | B1: 8
A2: 2025126754 | B2: 6
A3: 11310383 | B3: 6
A4: 2023126923 | B4: 6
A5: 2025126747 | B5: 6
A6: 20190316 | B6: 3
A7: 2024126688 | B7: 4
A8: 20160098 | B8: 6
A9: 2026120502 | B9: 3
A10: 2024126910 | B10: 6
A11: 2024120519 | B11: 3
A12: 2025120556 | B12: 6
... A14: 2022127110 | B14: 3
B15: 12
A16: 20230219 | B16: 3
A17: 2025126928 | B17: 6
A18: 2025127076 | B18: 7
A19: 20200268 | B19: 6
A20: 2025113463 | B20: 6
A21: 2025110026 | B21: 3
A22: 2023120550 | B22: 6
B23: 7
A24: 2024121045 | B24: 7
A25: 2020120551 | B25: 3
A26: 2022126769 | B26: 3
A27: 2024127075 | B27: 6
A28: 2025126699 | B28: 6
A29: 2024126911 | B29: 6
A30: 2025126757 | B30: 4
A31: 2023113684 | B31: 6
A32: 2024126906 | B32: 3
A33: 2023126764 | B33: 6
A34: 2021111825 | B34: 3
A35: 2022113180 | B35: 3
... A287: 2022112189 | B287: 6
B288: 6
A289: 2022112511 | B289: 6
A290: 2025120374 | B290: 3
A291: 2026112430 | B291: 6
A292: 2025110589 | B292: 3
A293: 2023110217 | B293: 3
A294: 2025112012 | B294: 3
A295: 2026113360 | B295: 6
A296: 2025112126 | B296: 6
A297: 2022110518 | B297: 6
A298: 2023110503 | B298: 6
A299: 2022112109 | B299: 3
A300: 2026112168 | B300: 6
... A379: 20251485 | B379: 4
A380: NP230311 | B380: 3
A381: 2023112353 | B381: 6
A382: 2019110534 | B382: 6
A383: 2022111335 | B383: 3
A384: 2022111598 | B384: 6
A385: 2023110422 | B385: 6
A386: 2025120260 | B386: 3
A387: 2024129830 | B387: 3
A388: 2023112114 | B388: 6
A389: 2025110493 | B389: 6
A390: 2023112273 | B390: 3
A391: 2022112231 | B391: 6
A392: 2022113137 | B392: 3
... A497: 2021110549 | B497: 6
A498: NP250276 | B498: 3
A499: 2023121088 | B499: 3
A500: 2023112411 | B500: 3
A501: 2024110272 | B501: 6
A502: 2022112321 | B502: 3
A503: 20230222 | B503: 3
A504: 2026112777 | B504: 3
A505: 2021110541 | B505: 6
A506: 2024110424 | B506: 6
A507: 2025112097 | B507: 6
A508: 2026112433 | B508: 6
A509: 2021112546 | B509: 6
A510: 2024110662 | B510: 3
... A530: 2021112111 | B530: 3
A531: NP220098 | B531: 3
A532: 2021112684 | B532: 3
A533: 2025110492 | B533: 6
A534: 20180289 | B534: 6
A535: 2022112480 | B535: 3
A536: 2023112328 | B536: 6
A537: 2024110505 | B537: 6
A538: 2024110642 | B538: 3
A539: 2024112616 | B539: 6
A540: 2026112190 | B540: 6
A541: 2025126784 | B541: 3
A542: 2025112249 | B542: 3
A543: 2025110456 | B543: 6
... A818: 2020112278 | B818: 6
A819: NP240113 | B819: 3
A820: 2021112055 | B820: 6
A821: 2025126615 | B821: 6
A822: 2023112424 | B822: 6
A823: NP130116 | B823: 6
A824: 2019110536 | B824: 6
A825: 2021112530 | B825: 6
A826: 2022112033 | B826: 6
A827: 2026112486 | B827: 6
...
