Workbook

Sheet 2026-1 대학원생 정기안전교육(고위험)
A1: NO | B1: 학번 | C1: 성명 | D1: 주전공 학부(과) | E1: 온라인 수료시간 | F1: 집체교육 수료시간 | G1: 총 수료시간 | H1: 이수유무 | I1: 비고
A2: 1 | B2: 2023120550 | C2: 마리아 라시드 | D2: 미래전지융합공학과 | E2: =IFERROR(VLOOKUP(B2,Sheet1!$A$1:$B$1490,2,0),0) -> 6 | G2: =E2+F2 -> 6 | H2: 이수
A3: 2 | B3: 2023126911 | C3: 김창섭 | D3: 미래전지융합공학과 | E3: =IFERROR(VLOOKUP(B3,Sheet1!$A$1:$B$1490,2,0),0) -> 6 | G3: =E3+F3 -> 6 | H3: 이수
A4: 3 | B4: 2023126912 | C4: 김창성 | D4: 미래전지융합공학과 | E4: =IFERROR(VLOOKUP(B4,Sheet1!$A$1:$B$1490,2,0),0) -> 7 | G4: =E4+F4 -> 7 | H4: 이수
A5: 4 | B5: 2024126738 | C5: 연제민 | D5: 미래전지융합공학과 | E5: =IFERROR(VLOOKUP(B5,Sheet1!$A$1:$B$1490,2,0),0) -> 0 | G5: =E5+F5 -> 0
A6: 5 | B6: 2024126739 | C6: 김지훈 | D6: 미래전지융합공학과 | E6: =IFERROR(VLOOKUP(B6,Sheet1!$A$1:$B$1490,2,0),0) -> 6 | G6: =E6+F6 -> 6 | H6: 이수
A7: 6 | B7: 2024126920 | C7: 조일현 | D7: 미래전지융합공학과 | E7: =IFERROR(VLOOKUP(B7,Sheet1!$A$1:$B$1490,2,0),0) -> 6 | G7: =E7+F7 -> 6 | H7: 이수
A8: 7 | B8: 2024126921 | C8: 이현률 | D8: 미래전지융합공학과 | E8: =IFERROR(VLOOKUP(B8,Sheet1!$A$1:$B$1490,2,0),0) -> 4 | F8: 2 | G8: =E8+F8 -> 6 | H8: 이수
A9: 8 | B9: 2024127075 | C9: 새미와나카이 | D9: 미래전지융합공학과 | E9: =IFERROR(VLOOKUP(B9,Sheet1!$A$1:$B$1490,2,0),0) -> 6 | G9: =E9+F9 -> 6 | H9: 이수
A10: 9 | B10: 2025120173 | C10: 박경재 | D10: 미래전지융합공학과 | E10: =IFERROR(VLOOKUP(B10,Sheet1!$A$1:$B$1490,2,0),0) -> 4 | F10: 2 | G10: =E10+F10 -> 6 | H10: 이수
A11: 10 | B11: 2025126596 | C11: 김영규 | D11: 미래전지융합공학과 | E11: =IFERROR(VLOOKUP(B11,Sheet1!$A$1:$B$1490,2,0),0) -> 6 | G11: =E11+F11 -> 6 | H11: 이수
A12: 11 | B12: 2025126598 | C12: 이신우 | D12: 미래전지융합공학과 | E12: =IFERROR(VLOOKUP(B12,Sheet1!$A$1:$B$1490,2,0),0) -> 6 | G12: =E12+F12 -> 6 | H12: 이수
A13: 12 | B13: 2025126792 | C13: 진동근 | D13: 미래전지융합공학과 | E13: =IFERROR(VLOOKUP(B13,Sheet1!$A$1:$B$1490,2,0),0) -> 6 | G13: =E13+F13 -> 6 | H13: 이수
A14: 13 | B14: 2024126545 | C14: 최지혜 | D14: 화학과 | E14: =IFERROR(VLOOKUP(B14,Sheet1!$A$1:$B$1490,2,0),0) -> 4 | F14: 2 | G14: =E14+F14 -> 6 | H14: 이수
A15: 14 | B15: 2024126546 | C15: 강민재 | D15: 화학과 | E15: =IFERROR(VLOOKUP(B15,Sheet1!$A$1:$B$1490,2,0),0) -> 4 | F15: 2 | G15: =E15+F15 -> 6 | H15: 이수
A16: 15 | B16: 2024126788 | C16: 베비아고가 | D16: 화학과 | E16: =IFERROR(VLOOKUP(B16,Sheet1!$A$1:$B$1490,2,0),0) -> 0 | G16: =E16+F16 -> 0
A17: 16 | B17: 2025120056 | C17: 이유현 | D17: 화학과 | E17: =IFERROR(VLOOKUP(B17,Sheet1!$A$1:$B$1490,2,0),0) -> 6 | G17: =E17+F17 -> 6 | H17: 이수
A18: 17 | B18: 2025120057 | C18: 신은영 | D18: 화학과 | E18: =IFERROR(VLOOKUP(B18,Sheet1!$A$1:$B$1490,2,0),0) -> 6 | F18: 2 | G18: =E18+F18 -> 8 | H18: 이수
A19: 18 | B19: 2025120058 | C19: 유연평 | D19: 화학과 | E19: =IFERROR(VLOOKUP(B19,Sheet1!$A$1:$B$1490,2,0),0) -> 0 | G19: =E19+F19 -> 0
A20: 19 | B20: 2025120060 | C20: 김지우 | D20: 화학과 | E20: =IFERROR(VLOOKUP(B20,Sheet1!$A$1:$B$1490,2,0),0) -> 0 | F20: 2 | G20: =E20+F20 -> 2
A21: 20 | B21: 2025120335 | C21: 반지현 | D21: 화학과 | E21: =IFERROR(VLOOKUP(B21,Sheet1!$A$1:$B$1490,2,0),0) -> 0 | G21: =E21+F21 -> 0
A22: 21 | B22: 2025121025 | C22: 이민규 | D22: 화학과 | E22: =IFERROR(VLOOKUP(B22,Sheet1!$A$1:$B$1490,2,0),0) -> 6 | G22: =E22+F22 -> 6 | H22: 이수
A23: 22 | B23: 2025126524 | C23: 한다은 | D23: 화학과 | E23: =IFERROR(VLOOKUP(B23,Sheet1!$A$1:$B$1490,2,0),0) -> 0 | F23: 2 | G23: =E23+F23 -> 2
A24: 23 | B24: 2025126525 | C24: 신주희 | D24: 화학과 | E24: =IFERROR(VLOOKUP(B24,Sheet1!$A$1:$B$1490,2,0),0) -> 6 | F24: 2 | G24: =E24+F24 -> 8 | H24: 이수
A25: 24 | B25: 2025126928 | C25: 오코치완데라조엘 | D25: 화학과 | E25: =IFERROR(VLOOKUP(B25,Sheet1!$A$1:$B$1490,2,0),0) -> 6 | G25: =E25+F25 -> 6 | H25: 이수
A26: 25 | B26: 2024127013 | C26: 여수문 | D26: 물리학과 | E26: =IFERROR(VLOOKUP(B26,Sheet1!$A$1:$B$1490,2,0),0) -> 0 | F26: 6 | G26: =E26+F26 -> 6 | H26: 이수
A27: 26 | B27: 2024127014 | C27: 푸멍디 | D27: 물리학과 | E27: =IFERROR(VLOOKUP(B27,Sheet1!$A$1:$B$1490,2,0),0) -> 0 | F27: 6 | G27: =E27+F27 -> 6 | H27: 이수
A28: 27 | B28: 2025120054 | C28: 박재성 | D28: 물리학과 | E28: =IFERROR(VLOOKUP(B28,Sheet1!$A$1:$B$1490,2,0),0) -> 0 | G28: =E28+F28 -> 0
A29: 28 | B29: 2025120055 | C29: 최시연 | D29: 물리학과 | E29: =IFERROR(VLOOKUP(B29,Sheet1!$A$1:$B$1490,2,0),0) -> 0 | F29: 6 | G29: =E29+F29 -> 6 | H29: 이수
A30: 29 | B30: 2025120373 | C30: 나경태 | D30: 물리학과 | E30: =IFERROR(VLOOKUP(B30,Sheet1!$A$1:$B$1490,2,0),0) -> 6 | G30: =E30+F30 -> 6 | H30: 이수
A31: 30 | B31: 2025120504 | C31: 권성혁 | D31: 물리학과 | E31: =IFERROR(VLOOKUP(B31,Sheet1!$A$1:$B$1490,2,0),0) -> 6 | G31: =E31+F31 -> 6 | H31: 이수
A32: 31 | B32: 2025121185 | C32: 김구환 | D32: 물리학과 | E32: =IFERROR(VLOOKUP(B32,Sheet1!$A$1:$B$1490,2,0),0) -> 8 | G32: =E32+F32 -> 8 | H32: 이수
A33: 32 | B33: 2025126523 | C33: 이주형 | D33: 물리학과 | E33: =IFERROR(VLOOKUP(B33,Sheet1!$A$1:$B$1490,2,0),0) -> 0 | F33: 6 | G33: =E33+F33 -> 6 | H33: 이수
A34: 33 | B34: 2025126925 | C34: 와히드무함마드 | D34: 물리학과 | E34: =IFERROR(VLOOKUP(B34,Sheet1!$A$1:$B$1490,2,0),0) -> 0 | F34: 6 | G34: =E34+F34 -> 6 | H34: 이수
A35: 34 | B35: 2024126653 | C35: 범시우 | D35: 건설환경공학과 | E35: =IFERROR(VLOOKUP(B35,Sheet1!$A$1:$B$1490,2,0),0) -> 0 | G35: =E35+F35 -> 0
A36: 35 | B36: 2025120115 | C36: 김태엽 | D36: 건설환경공학과 | E36: =IFERROR(VLOOKUP(B36,Sheet1!$A$1:$B$1490,2,0),0) -> 6 | G36: =E36+F36 -> 6 | H36: 이수
A37: 36 | B37: 2025120116 | C37: 이상민 | D37: 건설환경공학과 | E37: =IFERROR(VLOOKUP(B37,Sheet1!$A$1:$B$1490,2,0),0) -> 4 | F37: 2 | G37: =E37+F37 -> 6 | H37: 이수
A38: 37 | B38: 2025120117 | C38: 박준희 | D38: 건설환경공학과 | E38: =IFERROR(VLOOKUP(B38,Sheet1!$A$1:$B$1490,2,0),0) -> 0 | F38: 6 | G38: =E38+F38 -> 6 | H38: 이수
A39: 38 | B39: 2025121045 | C39: 김태건 | D39: 건설환경공학과 | E39: =IFERROR(VLOOKUP(B39,Sheet1!$A$1:$B$1490,2,0),0) -> 0 | G39: =E39+F39 -> 0
A40: 39 | B40: 2025126572 | C40: 조수호 | D40: 건설환경공학과 | E40: =IFERROR(VLOOKUP(B40,Sheet1!$A$1:$B$1490,2,0),0) -> 0 | F40: 2 | G40: =E40+F40 -> 2
...

Sheet Sheet1
A1: 20260238 | B1: 8
A2: 2025126754 | B2: 6
A3: 11310383 | B3: 6
A4: 2023126923 | B4: 6
A5: 2025126747 | B5: 6
A6: 20190316 | B6: 3
A7: 2024126688 | B7: 4
A8: 20160098 | B8: 6
A9: 2026120502 | B9: 3
A10: 2024126910 | B10: 6
A11: 2024120519 | B11: 3
A12: 2025120556 | B12: 6
... A14: 2022127110 | B14: 3
B15: 12
A16: 20230219 | B16: 3
A17: 2025126928 | B17: 6
A18: 2025127076 | B18: 7
A19: 20200268 | B19: 6
A20: 2025113463 | B20: 6
A21: 2025110026 | B21: 3
A22: 2023120550 | B22: 6
B23: 7
A24: 2024121045 | B24: 7
A25: 2020120551 | B25: 3
A26: 2022126769 | B26: 3
A27: 2024127075 | B27: 6
A28: 2025126699 | B28: 6
A29: 2024126911 | B29: 6
A30: 2025126757 | B30: 4
A31: 2023113684 | B31: 6
A32: 2024126906 | B32: 3
A33: 2023126764 | B33: 6
A34: 2021111825 | B34: 3
A35: 2022113180 | B35: 3
... A287: 2022112189 | B287: 6
B288: 6
A289: 2022112511 | B289: 6
A290: 2025120374 | B290: 3
A291: 2026112430 | B291: 6
A292: 2025110589 | B292: 3
...
